BEGIN:VCALENDAR
VERSION:2.0
PRODID:https://github.com/derhansen/sf_event_mgt
METHOD:PUBLISH
BEGIN:VEVENT
UID:530-2165@www.brot-fuer-die-welt.de
CLASS: PUBLIC
SUMMARY:Wir haben es satt-Demo in Berlin
DESCRIPTION:Gutes Essen für alle – statt Profite für wenige!\n\n\n\nAuch in
  diesem Jahr unterstützen wir wieder die Demonstration Wir haben es Satt! a
 m 21.01.2023.\n\nBäuerinnen und Bauern starten um 12 Uhr am Brandenburger T
 or den pandemiegerechten Demozug für eine gerechte Agrar- und Sozialpolitik
 .\n\nIm Anschluss an die Demo gibt es das sogenannte Soup & Talk in Zusamme
 narbeit mit der Heinrich-Böll-Stiftung zum Aufwärmen und gemeinsamen Austau
 sch zu anstehenden Projekten und der aktuellen Lage in der Landwirtschaft.\
 n\nMehr Informationen zum gesamten Programm gibt es hier.
DTSTAMP:20230125T135301Z
DTSTART:20230121T114800Z
DTEND:20230121T150000Z
END:VEVENT
END:VCALENDAR
