BEGIN:VCALENDAR
VERSION:2.0
PRODID:https://github.com/derhansen/sf_event_mgt
METHOD:PUBLISH
BEGIN:VEVENT
UID:332-2163@www.brot-fuer-die-welt.de
CLASS: PUBLIC
SUMMARY:VORURTEILSBEWUSST MIT VIELFALT UMGEHEN – EINE EINFÜHRUNG IN DEN ANT
 I BIAS ANSATZ
DESCRIPTION:In einer vielfältigen Gesellschaft liegt ein großer Reichtum. D
 ennoch führt Anderssein als die Mehrheitsgesellschaft in vielen Fällen zu A
 usgrenzung. Vielfalt als wertvolles Gut nutzbar zu machen setzt voraus, das
 s wir unsere eigenen Privilegien, unser eigenes diskriminierendes Handeln u
 nd die uns umgebenden diskriminierenden Strukturen erkennen.  Wir werden im
  Seminar mit dem Anti-Bias-Ansatz arbeiten. Dieser Ansatz beschäftigt sich 
 mit verschiedenen Formen von Diskriminierung und Intersektionalität. Das en
 glische Wort Bias bedeutet Voreingenommenheit, Schieflage oder Vorurteil. A
 nti-Bias verfolgt das Ziel, eine durch Einseitigkeit und Voreingenommenheit
  entstandene Schieflage ins Gleichgewicht zu bringen und Diskriminierungen 
 zu erkennen und abzubauen.  Bei Anti-Bias geht es darum, vorurteilsbewusst 
 mit Vielfalt und Unterschiedlichkeit umzugehen und aktiv an Veränderung zu 
 arbeiten. Im Zentrum steht die Arbeit an der eigenen Haltung.\n\nFolgende I
 nhalte werden während des Seminars bearbeitet:\n\n 	Diskriminierung 	Bewuss
 tmachen von diskriminierenden Strukturen und Verhaltensweisen 	Privilegien 
 und Macht 	Bedeutung des Anti-Bias-Ansatzes für die Arbeit als Fachkraft in
  der Entwicklungszusammenarbeit    \n\n An wen sich das Seminar richtet:  W
 ir möchten vor allem mehrheitlich privilegierte Menschen für das Thema sen
 sibilisieren und über Grundlagen des Themas Diskriminierung sprechen. Wir 
 möchten, dass sich alle Teilnehmer*innen wohl fühlen und ihre Erfahrungen 
 teilen können. Im Rahmen des Workshops können wir aber leider, auch aufgrun
 d unserer eigenen gesellschaftlichen Positionierungen, nur einen bedingt ge
 schützten Raum schaffen und bieten dieses Seminar nicht als Empowermentsem
 inar an. Bei Fragen zur Teilnahme wenden Sie sich gern an uns.\n\nTermin un
 d Veranstaltungsort SE 02 10.05. – 12.05.2023 Akademie Hotel Pankow, Berlin
 \n\nDas Seminar beginnt um 14.30 Uhr am ersten Seminartag und endet mit dem
  Mittagessen um 13 Uhr am letzten Seminartag.\n\nTeilnahmebeitrag 560,00 € 
 ohne Ü/F. Ermäßigungen sind auf Anfrage möglich. Für Fachkräfte, die im Aus
 wahlgespräch von Dienste in Übersee angenommen wurden, ist die Teilnahme ko
 stenlos. Bei internen Mitarbeiter*innen von Brot für die Welt und Diakonie 
 Katastrophenhilfe werden die Kosten über das Seminarbudget verrechnet. Die 
 Kosten für die Seminare anderer Anbieter können ausschließlich nach Vertrag
 sschluss übernommen werden.  Betreuungsangebot für Kinder bis einschließlic
 h 14 Jahre auf Anfrage möglich.\n\nAnmeldung zum SE 02 bis Mittwoch, 05.04.
 2023.\n\nHinweis zur Barrierefreiheit:\n\nDer Veranstaltungsort ist weitgeh
 end barrierefrei. Bitte teilen Sie uns mit, wenn Sie Unterstützungsbedarfe 
 haben. Wir treffen gerne Vorkehrungen im Rahmen unserer Möglichkeiten für S
 ie.\n\nTel.: +49 30 65211-1349 E-Mail: seminaranmeldung@due.org Online Anme
 ldung: http://info.due.org/fachkraefte\n\nGuestoo-Link zum Anmeldeformular 
 SE 02: https://app.guestoo.de/public/event/5396e0c0-b834-4c81-a58d-2c95d394
 df7f\n\nEs gelten unsere allgemeinen Geschäftsbedingungen.
DTSTAMP:20230403T111340Z
DTSTART:20230510T123000Z
DTEND:20230512T110000Z
END:VEVENT
END:VCALENDAR
