BEGIN:VCALENDAR
VERSION:2.0
PRODID:https://github.com/derhansen/sf_event_mgt
METHOD:PUBLISH
BEGIN:VEVENT
UID:1174-2165@www.brot-fuer-die-welt.de
CLASS: PUBLIC
SUMMARY:Vorstellung des 8. Atlas der Zivilgesellschaft. Schwerpunkt: Rechts
 staat unter Druck.
DESCRIPTION:Terrorismus-Vorwürfe, Zensur, Tötungen und Verschwindenlassen: 
 Die Bereitschaft von Regierungen Gesetze zu instrumentalisieren um gegen Ak
 tivist*innen, Journalist*innen, und NGOs vorzugehen ist größer geworden. Un
 ter den Repressionen leiden Menschenrechte wie die Rede-, Versammlungs- und
  Vereinigungsfreiheit. Weltweit nehmen Angriffe auf das unabhängige Justizs
 ystem und auf Richter*innen und Staatsanwält*innen zu. Der Atlas der Zivilg
 esellschaft 2025 wirft einen Blick auf diese Angriffe und mutige Vertreter*
 innen der Zivilgesellschaft, die sich zur Wehr setzen.\n\nDarüber sprechen 
 wir live mit internationalen Partner*innen und Gästen aus Zivilgesellschaft
 , Kirche und Journalismus. Dazu gibt es Musik und die Möglichkeit, miteinan
 der ins Gespräch zu kommen.\n\nDie Veranstaltung wird im Live-Stream übertr
 agen.\n\n\n\nSie können sich hier für die Veranstaltung anmelden.
DTSTAMP:20250512T132557Z
DTSTART:20250604T160000Z
DTEND:20250604T173000Z
END:VEVENT
END:VCALENDAR
