BEGIN:VCALENDAR
VERSION:2.0
PRODID:https://github.com/derhansen/sf_event_mgt
METHOD:PUBLISH
BEGIN:VEVENT
UID:410-2163@www.brot-fuer-die-welt.de
CLASS: PUBLIC
SUMMARY:Online Training: Critical Self Reflection on Power (Sharing) and So
 lidarity in international development work
DESCRIPTION:Professionals and partner organisations on the ground strive fo
 r cooperation in partnership in order to achieve shared development goals. 
 However, this cooperation occurs in a post-/colonial context of historicall
 y grown and persisting socio-economic inequalities and injustices. Therefor
 e, using a critique of power to examine our own scopes of action is a prere
 quisite for co-operating in solidarity towards a sustainable world communit
 y.  In this training, we will look at theoretical foundations of and practi
 cal experience with power sharing. We invite you to reflect on your own rol
 e in the global context and the privileges that go along with it. Together 
 we want to develop ideas and approaches for how we can use our respective p
 ower of action and change for greater global equality of opportunities.  …i
 n Short\n\n 	Learning about theoretical foundations of and practical experi
 ence with power sharing 	Reflecting on your own power, position and privile
 ges 	Developing practical ideas for how to make power-sensitive use of scop
 es of action in the respective work context \n\nTarget groups\n\n 	Professi
 onals of Dienste in Übersee, in preparation for the work in partner organis
 ations of Brot für die Welt 	Professionals of other services and missionary
  agencies in preparation 	Employees of church-related aid agencies \n\nDate
  and venue SE 05     18.12. – 20.12.2023, via Zoom\n\nThe training starts a
 t 2.30 p.m. on the first training day and ends at 6.30 p.m. on the last tra
 ining day.\n\nParticipation fee 370 € per person. Discounts are possible on
  request. Participation is free of charge for professionals accepted by Die
 nste in Übersee in the selection interview.\n\nRegistration until Monday, D
 ecember 8th 2023\n\nTel.: +49 30 65211-1349 E-Mail: seminaranmeldung@due.or
 g Online Registration: http://info.due.org/fachkraefte\n\nRegistration form
  via the web-based tool guestoo: https://app.guestoo.de/public/event/7bbf02
 69-bd8a-4562-875c-a6f5a2256207\n\nOur general terms and conditions apply.
DTSTAMP:20231219T092520Z
DTSTART:20231218T133000Z
DTEND:20231220T173000Z
END:VEVENT
END:VCALENDAR
