BEGIN:VCALENDAR
VERSION:2.0
PRODID:https://github.com/derhansen/sf_event_mgt
METHOD:PUBLISH
BEGIN:VEVENT
UID:406-2163@www.brot-fuer-die-welt.de
CLASS: PUBLIC
SUMMARY:LEBEN UND ARBEITEN IN TRAUMATISIERTEN KONTEXTEN
DESCRIPTION:In vielen Ländern, in denen Fachkräfte arbeiten, gibt es vielfä
 ltige psychosoziale Traumaerfahrungen, die Einfluss auf das Leben und Arbei
 ten vor Ort bzw. auf die Arbeit mit lokalen Partnerorganisationen haben kön
 nen. Niemals sind nur einzelne Personen von traumatischen Konsequenzen betr
 offen, sondern auch ihre Beziehungen und damit Kollektive.  Die Auswirkunge
 n können sich auf unterschiedliche Weise im Lebens- und Arbeitsalltag von F
 achkräften oder Mitarbeitenden, die in engem Kontakt mit den Partnerorganis
 ationen stehen, zeigen – sie spiegeln aber meist typische Traumadynamiken v
 on Angst, Ausgeliefertsein, Ohnmacht, Kontrollverlust und Verlust von Vertr
 auen in andere Menschen wider.  Im Seminar geht es um die Frage, wie Fachkr
 äfte und Mitarbeitende in traumatisierten Kontexten traumasensibel wirken k
 önnen: Wie können individuelle und kollektive Traumadynamiken erkannt werde
 n? Was heißt Traumasensibilität in der Mitarbeit in Teams und Organisatione
 n – und im Kontakt mit den Zielgruppen? Welche Möglichkeiten des Selbstschu
 tzes gibt es, gerade auch dort, wo Fachkräfte durch ihre biografischen Erfa
 hrungen ihre eigenen Belastungsdynamiken mitbringen?  … in Stichworten\n\n 
 	Erkennen und Verstehen von Traumadynamiken (individuell und kollektiv/tran
 sgenerational) 	Verstehen von und Umgang mit Belastungen in der Arbeit in „
 traumatisierten“ Organisationen 	Kennenlernen von niedrigschwelligen Handlu
 ngsmöglichkeiten der Traumasensibilität 	Traumasensible Kommunikation mit Z
 ielgruppen und in Organisationen/Teams 	Die Bedeutung von Selbstfürsorge un
 d Fürsorge in Teams und Organisationen \n\nZielgruppen\n\n 	Fachkräfte von 
 Dienste in Übersee, in Vorbereitung auf die Arbeit in Partnerorganisationen
  von Brot für die Welt 	Fachkräfte anderer Dienste und Missionswerke in Vor
 bereitung 	Mitarbeiter*innen kirchlicher Hilfswerke \n\nTermin und Veransta
 ltungsort SE 03     10.07. – 12.07.2023 Akademie Hotel Pankow, Berlin\n\nDa
 s Seminar beginnt um 14.30 Uhr am ersten Seminartag und endet mit dem Mitta
 gessen um 13 Uhr am letzten Seminartag.\n\nTeilnahmebeitrag 450,00 € ohne Ü
 /F. Ermäßigungen sind auf Anfrage möglich. Für Fachkräfte, die im Auswahlge
 spräch von Dienste in Übersee angenommen wurden, ist die Teilnahme kostenlo
 s. Bei internen Mitarbeiter*innen von Brot für die Welt und Diakonie Katast
 rophenhilfe werden die Kosten über das Seminarbudget verrechnet. Die Kosten
  für die Seminare anderer Anbieter können ausschließlich nach Vertragsschlu
 ss übernommen werden.  Betreuungsangebot für Kinder bis einschließlich 14 J
 ahre auf Anfrage möglich.\n\nAnmeldung zum SE 03 bis Montag, 05.06.2023.\n\
 nHinweis zur Barrierefreiheit:\n\nDer Veranstaltungsort ist weitgehend barr
 ierefrei. Bitte teilen Sie uns mit, wenn Sie Unterstützungsbedarfe haben. W
 ir treffen gerne Vorkehrungen im Rahmen unserer Möglichkeiten für Sie.\n\nT
 el.: +49 30 65211-1349 E-Mail: seminaranmeldung@due.org Online Anmeldung: h
 ttp://info.due.org/fachkraefte\n\nGuestoo-Link zum Anmeldeformular SE 03: h
 ttps://app.guestoo.de/public/event/2dfbeb5e-12a7-4c5d-a392-a2ea8a03c92c\n\n
 Es gelten unsere allgemeinen Geschäftsbedingungen.
DTSTAMP:20231219T082956Z
DTSTART:20230710T123000Z
DTEND:20230712T110000Z
END:VEVENT
END:VCALENDAR
