BEGIN:VCALENDAR
VERSION:2.0
PRODID:https://github.com/derhansen/sf_event_mgt
METHOD:PUBLISH
BEGIN:VEVENT
UID:1287-2579@www.brot-fuer-die-welt.de
CLASS: PUBLIC
SUMMARY:Gerechtigkeit für Marikana - mit dem Lieferkettengesetz?
DESCRIPTION:Hybride Diskussionsveranstaltung mit zwei Aktivisten aus Südafr
 ika \n\n\n\nWie kann transnationale Solidarität und Zusammenarbeit entlang 
 der Lieferketten in Zeiten eskalierender Krisen und Konflikte aussehen? Und
  wie kann dazu das deutsche Lieferkettengesetz wirksam genutzt werden? Wir 
 freuen uns, diese und weitere Fragen gemeinsam mit zwei Gästen aus Südafrik
 a zu diskutieren: Der Umwelt- und Community-Aktivist Brown Matloko aus Wond
 erkop/Marikana wird aus erster Hand über die prekäre Realität in den Bergba
 ugemeinden berichten. Der Chemiekonzern BASF aus Ludwigshafen bezieht in de
 r Marikana-Mine durch den Bergbaukonzern Sibanye-Stillwater (zuvor Lonmin) 
 abgebautes Platin, um damit u.a. Abgaskatalysatoren für die Automobilindust
 rie herzustellen. Eric Mokuoa von der zivilgesellschaftlichen Organisation 
 Bench Marks Foundation begleitet seit Jahren vom Bergbau betroffene Gemeind
 en, unter anderem  in Wonderkop/Marikana, und macht öffentlich auf die Umwe
 ltauswirkungen, Arbeitsbedingungen und Lebensrealitäten aufmerksam.\n\nDurc
 h das Massaker an streikenden Arbeitern 2012 durch die südafrikanische Poli
 zei erlangte der Fall Marikana traurige Berühmtheit. Bis heute hat sich die
  Situation der Arbeiter*innen und Anwohner*innen kaum verbessert, teilweise
  sogar verschlechtert. Jahrelange Dialoge mit den verantwortlichen Unterneh
 men und Sozial- und Nachhaltigkeitsaudits haben daran nichts geändert.\n\nB
 rown Matloko hat mit Unterstützung der Plough Back the Fruits Kampagne offi
 ziell Beschwerde gegen BASF auf Grundlage des Lieferkettengesetzes eingerei
 cht aufgrund der anhaltenden sozialen Missstände und Umweltauswirkungen – S
 taubbelastung, Emissionen und unzureichend gesicherte Absetzbecken, aus den
 en kontaminiertes Wasser austritt. Gemeinsam wollen wir darüber diskutieren
 , warum die bisherigen Maßnahmen des Chemiekonzerns wirkungslos blieben und
  wie wirksame Abhilfe und Verantwortung aussehen müssen, damit die Gemeinde
 n endlich vom Rohstoffreichtum profitieren, statt unter ihm zu leiden. Glei
 chzeitig stellen sich angesichts der Schließung von Schächten neue Fragen n
 ach Zukunftsperspektiven jenseits des Bergbaus, Sanierung und Rekultivierun
 g und einem gerechten Übergang.\n\nMit:\n\n 	Brown Matloko, Wonderkop-Commu
 nity 	Eric Mokuoa, Bench Marks Foundation 	Felix Roll, Werkstatt Ökonomie \
 n\nModeration: Kristina Stier, Brot für die Welt\n\n Ort: Bildungszentrum s
 anctclara Mannheim B5, 19 | 68159 Mannheim, Online-Teilnahme möglich\n\nSpr
 ache: Englisch und Deutsch mit Übersetzung\n\nWir bitten um kurze Anmeldung
  mit der Info zur Online- oder Präsenz-Teilnahme unter: https://nextcloud.k
 ritischeaktionaere.de/apps/forms/s/trap99Zcn6zq6F5tjqz4FLgn\n\nÖffentliche 
 Veranstaltung von\n\n 	Kirchliche Arbeitsstelle Südliches Afrika (KASA) 	Br
 ot für die Welt 	Dachverband Kritische Aktionärinnen und Aktionäre \n\n\n\n
DTSTAMP:20260417T142844Z
DTSTART:20260429T170000Z
DTEND:20260429T190000Z
END:VEVENT
END:VCALENDAR
